BEGIN:VCALENDAR
VERSION:2.0
PRODID:-//American Federation of Teachers New Jersey, AFL-CIO - ECPv6.3.3//NONSGML v1.0//EN
CALSCALE:GREGORIAN
METHOD:PUBLISH
X-ORIGINAL-URL:https://aftnj.org
X-WR-CALDESC:Events for American Federation of Teachers New Jersey, AFL-CIO
REFRESH-INTERVAL;VALUE=DURATION:PT1H
X-Robots-Tag:noindex
X-PUBLISHED-TTL:PT1H
BEGIN:VTIMEZONE
TZID:America/New_York
BEGIN:DAYLIGHT
TZOFFSETFROM:-0500
TZOFFSETTO:-0400
TZNAME:EDT
DTSTART:20240310T070000
END:DAYLIGHT
BEGIN:STANDARD
TZOFFSETFROM:-0400
TZOFFSETTO:-0500
TZNAME:EST
DTSTART:20241103T060000
END:STANDARD
END:VTIMEZONE
BEGIN:VEVENT
DTSTART;TZID=America/New_York:20240216T000000
DTEND;TZID=America/New_York:20240218T235959
DTSTAMP:20240226T072008
CREATED:20240125T190152Z
LAST-MODIFIED:20240201T002200Z
UID:10000010-1708041600-1708300799@aftnj.org
SUMMARY:AFT Higher Education Professional Issues Conference
DESCRIPTION:Free for AFT and AFT/AAUP members
URL:https://aftnj.org/event/aft-higher-education-professional-issues-conference/
END:VEVENT
BEGIN:VEVENT
DTSTART;TZID=America/New_York:20240129T180000
DTEND;TZID=America/New_York:20240129T200000
DTSTAMP:20240226T072008
CREATED:20240111T201553Z
LAST-MODIFIED:20240201T001035Z
UID:10000003-1706551200-1706558400@aftnj.org
SUMMARY:AFTNJ Delegate Assembly meeting
DESCRIPTION:The Zoom link and the agenda will be sent out a few days prior to the meeting.
URL:https://aftnj.org/event/aftnj-delegate-assembly-meeting-2/
END:VEVENT
BEGIN:VEVENT
DTSTART;TZID=America/New_York:20240117T170000
DTEND;TZID=America/New_York:20240117T190000
DTSTAMP:20240226T072008
CREATED:20231010T194629Z
LAST-MODIFIED:20240201T002042Z
UID:10000002-1705510800-1705518000@aftnj.org
SUMMARY:AFTNJ Executive Council meeting
DESCRIPTION:The Zoom link and the agenda will be sent out a few days before the meeting.
URL:https://aftnj.org/event/aftnj-executive-council-meeting/
ORGANIZER;CN="Krista Sweeney":MAILTO:ksweeney@aftnj.org
END:VEVENT
END:VCALENDAR