BEGIN:VCALENDAR
VERSION:2.0
PRODID:-//American Federation of Teachers New Jersey, AFL-CIO - ECPv6.15.20//NONSGML v1.0//EN
CALSCALE:GREGORIAN
METHOD:PUBLISH
X-ORIGINAL-URL:https://aftnj.org
X-WR-CALDESC:Events for American Federation of Teachers New Jersey, AFL-CIO
REFRESH-INTERVAL;VALUE=DURATION:PT1H
X-Robots-Tag:noindex
X-PUBLISHED-TTL:PT1H
BEGIN:VTIMEZONE
TZID:America/New_York
BEGIN:DAYLIGHT
TZOFFSETFROM:-0500
TZOFFSETTO:-0400
TZNAME:EDT
DTSTART:20240310T070000
END:DAYLIGHT
BEGIN:STANDARD
TZOFFSETFROM:-0400
TZOFFSETTO:-0500
TZNAME:EST
DTSTART:20241103T060000
END:STANDARD
BEGIN:DAYLIGHT
TZOFFSETFROM:-0500
TZOFFSETTO:-0400
TZNAME:EDT
DTSTART:20250309T070000
END:DAYLIGHT
BEGIN:STANDARD
TZOFFSETFROM:-0400
TZOFFSETTO:-0500
TZNAME:EST
DTSTART:20251102T060000
END:STANDARD
BEGIN:DAYLIGHT
TZOFFSETFROM:-0500
TZOFFSETTO:-0400
TZNAME:EDT
DTSTART:20260308T070000
END:DAYLIGHT
BEGIN:STANDARD
TZOFFSETFROM:-0400
TZOFFSETTO:-0500
TZNAME:EST
DTSTART:20261101T060000
END:STANDARD
END:VTIMEZONE
BEGIN:VEVENT
DTSTART;TZID=America/New_York:20250612T180000
DTEND;TZID=America/New_York:20250612T190000
DTSTAMP:20260422T195825
CREATED:20240710T134622Z
LAST-MODIFIED:20250317T182000Z
UID:21511-1749751200-1749754800@aftnj.org
SUMMARY:AFTNJ Executive Council Meeting
DESCRIPTION:Meeting place/format (in person or virtual) is TBD; time may change as a result.
URL:https://aftnj.org/event/aftnj-executive-council-meeting-7/
END:VEVENT
BEGIN:VEVENT
DTSTART;TZID=America/New_York:20250630T180000
DTEND;TZID=America/New_York:20250630T200000
DTSTAMP:20260422T195825
CREATED:20240710T135742Z
LAST-MODIFIED:20250623T185705Z
UID:21519-1751306400-1751313600@aftnj.org
SUMMARY:AFTNJ Delegate Assembly Meeting
DESCRIPTION:In person at the Rutgers Labor Education Center\, 50 Labor Center Way in New Brunswick.
URL:https://aftnj.org/event/aftnj-delegate-assembly-meeting-8/
END:VEVENT
END:VCALENDAR